BEGIN:VCALENDAR
VERSION:2.0
PRODID:Events Booking
BEGIN:VEVENT
UID:69ece7f5e38ee
SUMMARY:\"Nasse Füße & heiße Beats 2.0\"
DESCRIPTION:Unsere RIFF-Pyramide wird wieder zur ultimativen Partylocation 
 – und du solltest dir dieses Datum ganz fett im Kalender markieren!
LOCATION:Freizeitbad RIFF\, 3\, Am Riff\, Bad Lausick\, Landkreis Leipzig\,
  Sachsen\, 04651\, Deutschland
DTSTART:20260829T220000Z
DTEND:20260830T030000Z
DTSTAMP:20250407T063757Z
ORGANIZER;CN=Freizeitbad RIFF:MAILTO:mailer@freizeitbad-riff.de
GEO:51.144524;12.653825
X-APPLE-STRUCTURED-LOCATION;VALUE=URI;X-ADDRESS=Freizeitbad RIFF\, 3\, Am R
 iff\, Bad Lausick\, Landkreis Leipzig\, Sachsen\, 04651\, Deutschland;X-AP
 PLE-RADIUS=72;X-TITLE=RIFF Pyramide & Liegewiese:51.144524;12.653825
END:VEVENT
END:VCALENDAR